BEGIN:VCALENDAR
VERSION:2.0
PRODID:-//ChamberMaster//Event Calendar 2.0//EN
METHOD:PUBLISH
X-PUBLISHED-TTL:P3D
REFRESH-INTERVAL:P3D
CALSCALE:GREGORIAN
BEGIN:VEVENT
DTSTART:20250607T150000Z
DTEND:20250607T170000Z
X-MICROSOFT-CDO-ALLDAYEVENT:FALSE
SUMMARY:Construction Open House
DESCRIPTION:Construction Open House\n\n\n\nSaturday\, June 7\, 2025\, 11 AM - 1 PM\n\n83 Howell Road SE\, White\, GA 30184\n\n\n\nOur Calhoun Sales team is delighted to welcome you to tour a stunning Carnegie II A\, currently under construction!  We invite you to take an up close look at our quality craftmanship and our team will be on site to answer any questions you may have about building your dream home.\n\n\n\nView the event flyer.\n\n\n\nCalhoun Building Center\, America's Home Place\n\n(706) 629-8011\n\nAmericasHomePlace.com
X-ALT-DESC;FMTTYPE=text/html:<strong>Construction Open House</strong><br />\n<br />\nSaturday\, June 7\, 2025\, 11 AM - 1 PM<br />\n83 Howell Road SE\, White\, GA 30184<br />\n<br />\nOur Calhoun Sales team is delighted to welcome you to tour a stunning Carnegie II A\, currently under construction!&nbsp\; We invite you to take an up close look at our quality craftmanship and our team will be on site to answer any questions you may have about building your dream home.<br />\n<br />\n<a href="https://chambermaster.blob.core.windows.net/userfiles/UserFiles/chambers/1202/File/Event_Docs/AHPJune2025COHFlyer.pdf" target="_blank">View the event flyer</a>.<br />\n<br />\nCalhoun Building Center\, America&#39\;s Home Place<br />\n(706) 629-8011<br />\n<a href="https://americashomeplace.com/" target="_blank">AmericasHomePlace.com</a>
LOCATION:83 Howell Road SE\, White\, GA 30184
UID:e.1202.171032
SEQUENCE:3
DTSTAMP:20260422T062105Z
URL:https://business.cartersvillechamber.com/events/details/construction-open-house-171032
END:VEVENT

END:VCALENDAR
