BEGIN:VCALENDAR
VERSION:2.0
PRODID:-//ChamberMaster//Event Calendar 2.0//EN
METHOD:PUBLISH
X-PUBLISHED-TTL:P3D
REFRESH-INTERVAL:P3D
CALSCALE:GREGORIAN
BEGIN:VEVENT
DTSTART:20250712T150000Z
DTEND:20250712T170000Z
X-MICROSOFT-CDO-ALLDAYEVENT:FALSE
SUMMARY:Construction Open House
DESCRIPTION:Construction Open House\n\n\n\nSaturday\, July 12\, 2025\, 11 AM - 1 PM\n\n791 Hullender Road\, Ringgold\, GA 30736\n\n\n\nOur Calhoun Sales team is delighted to welcome you to tour a stunning Brookwood Modern Farmhouse\, currently under construction!  We invite you to take an up close look at our quality craftsmanship and our team will be on site to answer any questions you may have about building your dream home.\n\n\n\nAmerica's Home Place\n\nCalhoun Building Center\n\n(706) 629-8011\n\nAmericasHomePlace.com
X-ALT-DESC;FMTTYPE=text/html:<strong><span style="font-size:18px\;">Construction Open House</span><br />\n<br />\nSaturday\, July 12\, 2025\, 11 AM - 1 PM<br />\n791 Hullender Road\, Ringgold\, GA 30736</strong><br />\n<br />\nOur Calhoun Sales team is delighted to welcome you to tour a stunning <strong>Brookwood Modern Farmhouse</strong>\, currently under construction!&nbsp\; We invite you to take an up close look at our quality craftsmanship and our team will be on site to answer any questions you may have about building your dream home.<br />\n<br />\nAmerica&#39\;s Home Place<br />\nCalhoun Building Center<br />\n(706) 629-8011<br />\n<a href="https://americashomeplace.com/" target="_blank">AmericasHomePlace.com</a>
LOCATION:791 Hullender Road Ringgold\, GA 30736
UID:e.1202.171059
SEQUENCE:3
DTSTAMP:20260422T045911Z
URL:https://business.cartersvillechamber.com/events/details/construction-open-house-171059
END:VEVENT

END:VCALENDAR
