BEGIN:VCALENDAR
VERSION:2.0
PRODID:-//ChamberMaster//Event Calendar 2.0//EN
METHOD:PUBLISH
X-PUBLISHED-TTL:P3D
REFRESH-INTERVAL:P3D
CALSCALE:GREGORIAN
BEGIN:VEVENT
DTSTART:20251011T150000Z
DTEND:20251011T170000Z
X-MICROSOFT-CDO-ALLDAYEVENT:FALSE
SUMMARY:Construction Open House
DESCRIPTION:Construction Open House\n\n\n\nSaturday\, October 11\, 2025\, 11 AM - 1 PM\n\n226 Tuscany Trail\, Dallas\, GA 30157\n\n\n\nOur Calhoun Sales team is delighted to welcome you to tour a stunning Carnegie II A\, currently under construction! Get an up-close look at our signature craftmanship\, and meet our team on-site to answer your questions and guide you through building the home of your dreams.\n\n\n\nAmerica's Home Place\, Calhoun Building Center\n\n(706) 629-8011 | AmericasHomePlace.com
X-ALT-DESC;FMTTYPE=text/html:Construction Open House<br />\n<br />\nSaturday\, October 11\, 2025\, 11 AM - 1 PM<br />\n226 Tuscany Trail\, Dallas\, GA 30157<br />\n<br />\nOur Calhoun Sales team is delighted to welcome you to tour a stunning Carnegie II A\, currently under construction! Get an up-close look at our signature craftmanship\, and meet our team on-site to answer your questions and guide you through building the home of your dreams.<br />\n<br />\nAmerica&#39\;s Home Place\, Calhoun Building Center<br />\n(706) 629-8011 | <a href="http://AmericasHomePlace.com" target="_blank">AmericasHomePlace.com</a>
LOCATION:226 Tuscany Trail\, Dallas\, GA 30157
UID:e.1202.171941
SEQUENCE:3
DTSTAMP:20260422T003356Z
URL:https://business.cartersvillechamber.com/events/details/construction-open-house-171941
END:VEVENT

END:VCALENDAR
