BEGIN:VCALENDAR
VERSION:2.0
PRODID:-//ChamberMaster//Event Calendar 2.0//EN
METHOD:PUBLISH
X-PUBLISHED-TTL:P3D
REFRESH-INTERVAL:P3D
CALSCALE:GREGORIAN
BEGIN:VEVENT
DTSTART:20250422T190000Z
DTEND:20250422T200000Z
X-MICROSOFT-CDO-ALLDAYEVENT:FALSE
SUMMARY:Cookbook Club
DESCRIPTION:The Cartersville Library Cookbook Club is starting in March! Each month\, we'll feature a different cookbook at the Reference Desk. You're invited to choose a recipe from the featured cookbook\, make a free copy\, and prepare the dish at home. Then\, bring your dish to our cookbook club meeting\, where we'll share\, taste\, and discuss the chosen recipes. Registration is required. Please call 770-382-4203 ext. 138 or visit the Reference Desk at the Cartersville Library to sign up.
X-ALT-DESC;FMTTYPE=text/html:<span style="color:rgb(62\, 62\, 62)\; font-family:system-ui\; font-size:12.8px">The Cartersville Library Cookbook Club is starting in March! Each month\, we&#39\;ll feature a different cookbook at the Reference Desk. You&#39\;re invited to choose a recipe from the featured cookbook\, make a free copy\, and prepare the dish at home. Then\, bring your dish to our cookbook club meeting\, where we&#39\;ll share\, taste\, and discuss the chosen recipes. Registration is required. Please call 770-382-4203 ext. 138 or visit the Reference Desk at the Cartersville Library to sign up.</span>
LOCATION:Cartersville Library Classroom
UID:e.1202.170656
SEQUENCE:3
DTSTAMP:20260422T091714Z
URL:https://business.cartersvillechamber.com/events/details/cookbook-club-170656
END:VEVENT

END:VCALENDAR
