BEGIN:VCALENDAR
VERSION:2.0
PRODID:-//ChamberMaster//Event Calendar 2.0//EN
METHOD:PUBLISH
X-PUBLISHED-TTL:P3D
REFRESH-INTERVAL:P3D
CALSCALE:GREGORIAN
BEGIN:VEVENT
DTSTART:20250710T190000Z
DTEND:20250710T203000Z
X-MICROSOFT-CDO-ALLDAYEVENT:FALSE
SUMMARY:Cookie Decorating with Cookie Nip
DESCRIPTION:Get ready for some sweet creativity! Come and learn the art of cookie decorating with Marc from Cookie Nip of Marietta. You'll have a blast mastering fun and beautiful designs\, transforming simple cookies into edible works of art that are as delightful to look at as they are to eat! Registration is required. To register visit the reference desk or call 770-382-4203 ext. 138.
X-ALT-DESC;FMTTYPE=text/html:<span style="color:rgb(62\, 62\, 62)\; font-family:system-ui\; font-size:12.8px">Get ready for some sweet creativity! Come and learn the art of cookie decorating with Marc from Cookie Nip of Marietta. You&#39\;ll have a blast mastering fun and beautiful designs\, transforming simple cookies into edible works of art that are as delightful to look at as they are to eat! Registration is required. To register visit the reference desk or call 770-382-4203 ext. 138.</span>
LOCATION:Cartersville Library Classroom
UID:e.1202.171064
SEQUENCE:3
DTSTAMP:20260422T045925Z
URL:https://business.cartersvillechamber.com/events/details/cookie-decorating-with-cookie-nip-171064
END:VEVENT

END:VCALENDAR
