BEGIN:VCALENDAR
VERSION:2.0
PRODID:-//ChamberMaster//Event Calendar 2.0//EN
METHOD:PUBLISH
X-PUBLISHED-TTL:P3D
REFRESH-INTERVAL:P3D
CALSCALE:GREGORIAN
BEGIN:VEVENT
DTSTART:20251113T210000Z
DTEND:20251113T220000Z
X-MICROSOFT-CDO-ALLDAYEVENT:FALSE
SUMMARY:Cooking Across Generations
DESCRIPTION:Join us for an all-ages cooking class where local seniors sign up to help children learn how to bake just in time for Thanksgiving! We'll show you how to make delicious snickerdoodle cookies and apple cider. If you don't have anyone to sign up with\, we will be putting together small teams for the program. Registration required.
X-ALT-DESC;FMTTYPE=text/html:<span style="color:rgb(62\, 62\, 62)\; font-family:system-ui\; font-size:12.8px">Join us for an all-ages cooking class where local seniors sign up to help children learn how to bake just in time for Thanksgiving! We&#39\;ll show you how to make delicious snickerdoodle cookies and apple cider. If you don&#39\;t have anyone to sign up with\, we will be putting together small teams for the program. Registration required.</span>
LOCATION:Cartersville Public Library 429 W Main St Cartersville\, GA 30121
UID:e.1202.172056
SEQUENCE:3
DTSTAMP:20260421T230959Z
URL:https://business.cartersvillechamber.com/events/details/cooking-across-generations-172056
END:VEVENT

END:VCALENDAR
