BEGIN:VCALENDAR
VERSION:2.0
PRODID:-//ChamberMaster//Event Calendar 2.0//EN
METHOD:PUBLISH
X-PUBLISHED-TTL:P3D
REFRESH-INTERVAL:P3D
CALSCALE:GREGORIAN
BEGIN:VEVENT
DTSTART:20240517T230000Z
DTEND:20240518T003000Z
X-MICROSOFT-CDO-ALLDAYEVENT:FALSE
SUMMARY:Corks and Corvettes
DESCRIPTION:SIP & PAINT   CORKS AND CORVETTES\n\n\n\nJoin us on Friday\, May 17\, 2024\, at 7:00 pm\, and immerse yourself in a unique artistic experience as you and your friends indulge in a delightful fusion of creativity and fun. Attend this exclusive art class\, where your instructor will guide you step-by-step as you paint a vintage 1953 Corvette on canvas. Sip on wine and savor a meal as your brush brings the iconic Corvette to life\, creating memories and "masterpieces" together. Leave with an 11  x 14  painted canvas you created. Limited seating.\n\n\n\nPurchase Tickets
X-ALT-DESC;FMTTYPE=text/html:SIP &amp\; PAINT &ndash\; CORKS AND CORVETTES<br />\n<br />\nJoin us on Friday\, May 17\, 2024\, at 7:00 pm\, and immerse yourself in a unique artistic experience as you and your friends indulge in a delightful fusion of creativity and fun. Attend this exclusive art class\, where your instructor will guide you step-by-step as you paint a vintage 1953 Corvette on canvas. Sip on wine and savor a meal as your brush brings the iconic Corvette to life\, creating memories and &ldquo\;masterpieces&rdquo\; together. Leave with an 11&Prime\; x 14&Prime\; painted canvas you created. Limited seating.<br />\n<br />\n<a href="https://savoymuseum.org/event/sip-paint-corks-and-corvettes/" target="_blank">Purchase Tickets</a>
LOCATION:Savoy Automobile Museum 3 Savoy Lane Cartersville\, GA 30120
UID:e.1202.164806
SEQUENCE:3
DTSTAMP:20260423T003742Z
URL:https://business.cartersvillechamber.com/events/details/corks-and-corvettes-164806
END:VEVENT

END:VCALENDAR
