BEGIN:VCALENDAR
VERSION:2.0
PRODID:-//ChamberMaster//Event Calendar 2.0//EN
METHOD:PUBLISH
X-PUBLISHED-TTL:P3D
REFRESH-INTERVAL:P3D
CALSCALE:GREGORIAN
BEGIN:VEVENT
DTSTART:20240626T190000Z
DTEND:20240626T200000Z
X-MICROSOFT-CDO-ALLDAYEVENT:FALSE
SUMMARY:Crafternoon
DESCRIPTION:Explore the fun of painting with alcohol ink as you create your own beautiful flower. No registration required. Adults only please.
X-ALT-DESC;FMTTYPE=text/html:Explore the fun of painting with alcohol ink as you create your own beautiful flower. No registration required. Adults only please.&nbsp\;
LOCATION:Cartersville Library Classroom 429 West Main Street Cartersville GA 30120 US
UID:e.1202.165591
SEQUENCE:3
DTSTAMP:20260422T230719Z
URL:https://business.cartersvillechamber.com/events/details/crafternoon-165591
END:VEVENT

END:VCALENDAR
