BEGIN:VCALENDAR
VERSION:2.0
PRODID:-//ChamberMaster//Event Calendar 2.0//EN
METHOD:PUBLISH
X-PUBLISHED-TTL:P3D
REFRESH-INTERVAL:P3D
CALSCALE:GREGORIAN
BEGIN:VEVENT
DTSTART:20250730T190000Z
DTEND:20250730T200000Z
X-MICROSOFT-CDO-ALLDAYEVENT:FALSE
SUMMARY:Crafternoon: DIY Spa Day
DESCRIPTION:Relax and refresh your skin this summer with our easy DIY body scrub and shower melts craft. No registration required. Adults only\, please.
X-ALT-DESC;FMTTYPE=text/html:<span style="color:rgb(62\, 62\, 62)\; font-family:system-ui\; font-size:12.8px">Relax and refresh your skin this summer with our easy DIY body scrub and shower melts craft. No registration required. Adults only\, please.</span>
LOCATION:Cartersville Library Classroom
UID:e.1202.171069
SEQUENCE:3
DTSTAMP:20260422T050109Z
URL:https://business.cartersvillechamber.com/events/details/crafternoon-diy-spa-day-171069
END:VEVENT

END:VCALENDAR
