BEGIN:VCALENDAR
VERSION:2.0
PRODID:-//ChamberMaster//Event Calendar 2.0//EN
METHOD:PUBLISH
X-PUBLISHED-TTL:P3D
REFRESH-INTERVAL:P3D
CALSCALE:GREGORIAN
BEGIN:VEVENT
DTSTART:20260225T200000Z
DTEND:20260225T210000Z
X-MICROSOFT-CDO-ALLDAYEVENT:FALSE
SUMMARY:Crafternoon: Felt Flowers
DESCRIPTION:Join us for our final Crafternoon of February where we'll be making felt flowers!
X-ALT-DESC;FMTTYPE=text/html:Join us for our final Crafternoon of February where we&#39\;ll be making felt flowers!
LOCATION:Cartersville Public Library
UID:e.1202.173435
SEQUENCE:3
DTSTAMP:20260421T174326Z
URL:https://business.cartersvillechamber.com/events/details/crafternoon-felt-flowers-02-25-2026-173435
END:VEVENT

END:VCALENDAR
