BEGIN:VCALENDAR
VERSION:2.0
PRODID:-//ChamberMaster//Event Calendar 2.0//EN
METHOD:PUBLISH
X-PUBLISHED-TTL:P3D
REFRESH-INTERVAL:P3D
CALSCALE:GREGORIAN
BEGIN:VEVENT
DTSTART:20250514T190000Z
DTEND:20250514T200000Z
X-MICROSOFT-CDO-ALLDAYEVENT:FALSE
SUMMARY:Crafternoon: Felt Flowers
DESCRIPTION:Learn to create elegant flowers out of felt that can be used as decor\, pins\, or your new favorite brooch. Just like Spring\, this craft blossoms with endless possibilities! No registration required. Adults only\, please.
X-ALT-DESC;FMTTYPE=text/html:<span style="color:rgb(62\, 62\, 62)\; font-family:system-ui\; font-size:12.8px">Learn to create elegant flowers out of felt that can be used as decor\, pins\, or your new favorite brooch. Just like Spring\, this craft blossoms with endless possibilities! No registration required. Adults only\, please.</span>
LOCATION:Cartersville Library Classroom
UID:e.1202.170898
SEQUENCE:3
DTSTAMP:20260422T080724Z
URL:https://business.cartersvillechamber.com/events/details/crafternoon-felt-flowers-170898
END:VEVENT

END:VCALENDAR
