BEGIN:VCALENDAR
VERSION:2.0
PRODID:-//ChamberMaster//Event Calendar 2.0//EN
METHOD:PUBLISH
X-PUBLISHED-TTL:P3D
REFRESH-INTERVAL:P3D
CALSCALE:GREGORIAN
BEGIN:VEVENT
DTSTART:20260211T200000Z
DTEND:20260211T210000Z
X-MICROSOFT-CDO-ALLDAYEVENT:FALSE
SUMMARY:Crafternoon: Himalayan Salt Heart Bath Bombs
DESCRIPTION:Stop in and make some Himalayan Salt Bath Bombs with the library team! These will be heart shaped and perfect for a special Valentine's Day gift or treat!
X-ALT-DESC;FMTTYPE=text/html:Stop in and make some Himalayan Salt Bath Bombs with the library team! These will be heart shaped and perfect for a special Valentine&#39\;s Day gift or treat!
LOCATION:Cartersville Public Library
UID:e.1202.173432
SEQUENCE:3
DTSTAMP:20260421T185626Z
URL:https://business.cartersvillechamber.com/events/details/crafternoon-himalayan-salt-heart-bath-bombs-173432
END:VEVENT

END:VCALENDAR
