BEGIN:VCALENDAR
VERSION:2.0
PRODID:-//ChamberMaster//Event Calendar 2.0//EN
METHOD:PUBLISH
X-PUBLISHED-TTL:P3D
REFRESH-INTERVAL:P3D
CALSCALE:GREGORIAN
BEGIN:VEVENT
DTSTART:20251112T200000Z
DTEND:20251112T210000Z
X-MICROSOFT-CDO-ALLDAYEVENT:FALSE
SUMMARY:Crafternoon: Leaf Dish
DESCRIPTION:Bring the outside indoors using real autumn leaves as inspiration for these elegant leaf dishes. No registration required. Adults only\, please.
X-ALT-DESC;FMTTYPE=text/html:<span style="color:rgb(62\, 62\, 62)\; font-family:system-ui\; font-size:12.8px">Bring the outside indoors using real autumn leaves as inspiration for these elegant leaf dishes. No registration required. Adults only\, please.</span>
LOCATION:Cartersville Public Library 429 W Main St Cartersville\, GA 30121
UID:e.1202.172014
SEQUENCE:3
DTSTAMP:20260421T231013Z
URL:https://business.cartersvillechamber.com/events/details/crafternoon-leaf-dish-172014
END:VEVENT

END:VCALENDAR
