BEGIN:VCALENDAR
VERSION:2.0
PRODID:-//ChamberMaster//Event Calendar 2.0//EN
METHOD:PUBLISH
X-PUBLISHED-TTL:P3D
REFRESH-INTERVAL:P3D
CALSCALE:GREGORIAN
BEGIN:VEVENT
DTSTART:20250709T190000Z
DTEND:20250709T200000Z
X-MICROSOFT-CDO-ALLDAYEVENT:FALSE
SUMMARY:Crafternoon: Light Switch Plates
DESCRIPTION:Plain light switch plates are out  color is in! Following our summer reading theme (Color Our World)\, our first July Crafternoon will add some color to your home. We'll be painting light switch plates to brighten your walls. Bring your switch plates with you\, or use one of ours while supplies last. No registration required. Limited to the first 20 people. Adults only please.
X-ALT-DESC;FMTTYPE=text/html:<span style="color:rgb(0\, 0\, 0)\; font-family:times new roman\,serif\; font-size:14.6667px">Plain light switch plates are out&hellip\; color is in! Following our summer reading theme (Color Our World)\, our first July Crafternoon will add some color to your home. We&rsquo\;ll be painting light switch plates to brighten your walls. Bring your switch plates with you\, or use one of ours while supplies last. No registration required. Limited to the first 20 people. Adults only please.</span>
LOCATION:Cartersville Library Classroom
UID:e.1202.171063
SEQUENCE:3
DTSTAMP:20260422T045952Z
URL:https://business.cartersvillechamber.com/events/details/crafternoon-light-switch-plates-171063
END:VEVENT

END:VCALENDAR
