BEGIN:VCALENDAR
VERSION:2.0
PRODID:-//ChamberMaster//Event Calendar 2.0//EN
METHOD:PUBLISH
X-PUBLISHED-TTL:P3D
REFRESH-INTERVAL:P3D
CALSCALE:GREGORIAN
BEGIN:VEVENT
DTSTART:20240529T190000Z
DTEND:20240529T200000Z
X-MICROSOFT-CDO-ALLDAYEVENT:FALSE
SUMMARY:Crafternoon: Melted Crayon Jewelry
DESCRIPTION:Turn those leftover crayons into a wearable masterpiece in this crafternoon adventure. No registration required. Adults only please.
X-ALT-DESC;FMTTYPE=text/html:<span style="color:rgb(0\, 0\, 0)\; font-family:system-ui\; font-size:12.8px">Turn those leftover crayons into a wearable masterpiece in this crafternoon adventure. No registration required. Adults only please.</span>
LOCATION:Cartersville Library Classroom 429 West Main Street Cartersville GA 30120 US
UID:e.1202.164378
SEQUENCE:3
DTSTAMP:20260423T004441Z
URL:https://business.cartersvillechamber.com/events/details/crafternoon-melted-crayon-jewelry-164378
END:VEVENT

END:VCALENDAR
