BEGIN:VCALENDAR
VERSION:2.0
PRODID:-//ChamberMaster//Event Calendar 2.0//EN
METHOD:PUBLISH
X-PUBLISHED-TTL:P3D
REFRESH-INTERVAL:P3D
CALSCALE:GREGORIAN
BEGIN:VEVENT
DTSTART:20250326T190000Z
DTEND:20250326T200000Z
X-MICROSOFT-CDO-ALLDAYEVENT:FALSE
SUMMARY:Crafternoon: Rock Painting
DESCRIPTION:Join us for an afternoon of painting as we create painted garden stones perfect for the spring season! Use our Easter egg templates or create your own images to decorate your garden space. No registration required. Limited to the first 24 participants. Adults only please!
X-ALT-DESC;FMTTYPE=text/html:<span style="color:rgb(62\, 62\, 62)\; font-family:system-ui\; font-size:12.8px">Join us for an afternoon of painting as we create painted garden stones perfect for the spring season! Use our Easter egg templates or create your own images to decorate your garden space. No registration required. Limited to the first 24 participants. Adults only please!</span>
LOCATION:Cartersville Library Classroom
UID:e.1202.168729
SEQUENCE:3
DTSTAMP:20260422T103448Z
URL:https://business.cartersvillechamber.com/events/details/crafternoon-rock-painting-168729
END:VEVENT

END:VCALENDAR
