BEGIN:VCALENDAR
VERSION:2.0
PRODID:-//ChamberMaster//Event Calendar 2.0//EN
METHOD:PUBLISH
X-PUBLISHED-TTL:P3D
REFRESH-INTERVAL:P3D
CALSCALE:GREGORIAN
BEGIN:VEVENT
DTSTART:20251126T200000Z
DTEND:20251126T210000Z
X-MICROSOFT-CDO-ALLDAYEVENT:FALSE
SUMMARY:Crafternoon: Scrabble Tile Coasters
DESCRIPTION:Colder weather means warm drinks and a higher chance for spills  keep your furniture safe with our Scrabble coasters! Limited to 20 participants. 2 coasters per person. Adults only please.
X-ALT-DESC;FMTTYPE=text/html:<span style="color:rgb(62\, 62\, 62)\; font-family:system-ui\; font-size:12.8px">Colder weather means warm drinks and a higher chance for spills&hellip\; keep your furniture safe with our Scrabble coasters! Limited to 20 participants. 2 coasters per person. Adults only please.</span>
LOCATION:Cartersville Public Library 429 W Main St Cartersville\, GA 30121
UID:e.1202.172058
SEQUENCE:3
DTSTAMP:20260421T231159Z
URL:https://business.cartersvillechamber.com/events/details/crafternoon-scrabble-tile-coasters-172058
END:VEVENT

END:VCALENDAR
