BEGIN:VCALENDAR
VERSION:2.0
PRODID:-//ChamberMaster//Event Calendar 2.0//EN
METHOD:PUBLISH
X-PUBLISHED-TTL:P3D
REFRESH-INTERVAL:P3D
CALSCALE:GREGORIAN
BEGIN:VEVENT
DTSTART:20241030T190000Z
DTEND:20241030T200000Z
X-MICROSOFT-CDO-ALLDAYEVENT:FALSE
SUMMARY:Crafternoon: Spooky Terrarium
DESCRIPTION:Learn how to make your own terrarium and give it a spooky flare for Halloween.  No registration required.  Adults only please.
X-ALT-DESC;FMTTYPE=text/html:<span style="color:rgb(62\, 62\, 62)\; font-family:system-ui\; font-size:12.8px">Learn how to make your own terrarium and give it a spooky flare for Halloween.&nbsp\; No registration required. &nbsp\;Adults only please.</span>
LOCATION:Cartersville Library Classroom 429 West Main Street Cartersville GA 30120 US
UID:e.1202.167193
SEQUENCE:3
DTSTAMP:20260422T172253Z
URL:https://business.cartersvillechamber.com/events/details/crafternoon-spooky-terrarium-167193
END:VEVENT

END:VCALENDAR
