BEGIN:VCALENDAR
VERSION:2.0
PRODID:-//ChamberMaster//Event Calendar 2.0//EN
METHOD:PUBLISH
X-PUBLISHED-TTL:P3D
REFRESH-INTERVAL:P3D
CALSCALE:GREGORIAN
BEGIN:VEVENT
DTSTART:20250409T190000Z
DTEND:20250409T200000Z
X-MICROSOFT-CDO-ALLDAYEVENT:FALSE
SUMMARY:Crafternoon: Spring Baskets
DESCRIPTION:Join us for a fun and festive spring basketmaking workshop! We'll be using yarn and cardboard to create beautiful baskets that are perfect for Easter or everyday use. No registration required. Adults only please. Limited to the first 24 participants.
X-ALT-DESC;FMTTYPE=text/html:<span style="color:rgb(62\, 62\, 62)\; font-family:system-ui\; font-size:12.8px">Join us for a fun and festive spring basketmaking workshop! We&#39\;ll be using yarn and cardboard to create beautiful baskets that are perfect for Easter or everyday use.</span><span style="color:rgb(62\, 62\, 62)\; font-family:system-ui\; font-size:12.8px">&nbsp\;</span><span style="color:rgb(62\, 62\, 62)\; font-family:system-ui\; font-size:12.8px">No registration required. Adults only please. Limited to the first 24 participants</span><span style="color:rgb(62\, 62\, 62)\; font-family:system-ui\; font-size:12.8px">.</span>
LOCATION:Cartersville Library Classroom
UID:e.1202.170292
SEQUENCE:3
DTSTAMP:20260424T094722Z
URL:https://business.cartersvillechamber.com/events/details/crafternoon-spring-baskets-170292
END:VEVENT

END:VCALENDAR
