BEGIN:VCALENDAR
VERSION:2.0
PRODID:-//ChamberMaster//Event Calendar 2.0//EN
METHOD:PUBLISH
X-PUBLISHED-TTL:P3D
REFRESH-INTERVAL:P3D
CALSCALE:GREGORIAN
BEGIN:VEVENT
DTSTART:20250625T190000Z
DTEND:20250625T200000Z
X-MICROSOFT-CDO-ALLDAYEVENT:FALSE
SUMMARY:Crafternoon: Tie-dye
DESCRIPTION:Unleash your inner artist and dive into a world of color! Join us for a fun and hands-on tie-dye activity where you'll have the chance to design and create your very own unique\, one-of-a-kind tie-dyed bag using markers.  Adults only please. Limited to the first 24 participants.
X-ALT-DESC;FMTTYPE=text/html:<span style="color:rgb(62\, 62\, 62)\; font-family:terminal\,monaco\; font-size:12.8px">Unleash your inner artist and dive into a world of color! Join us for a fun and hands-on tie-dye activity where you&#39\;ll have the chance to design and create your very own unique\, one-of-a-kind tie-dyed bag using markers.&nbsp\; Adults only please. Limited to the first 24 participants.</span>
LOCATION:Cartersville Library
UID:e.1202.171028
SEQUENCE:3
DTSTAMP:20260422T063107Z
URL:https://business.cartersvillechamber.com/events/details/crafternoon-tie-dye-171028
END:VEVENT

END:VCALENDAR
