BEGIN:VCALENDAR
VERSION:2.0
PRODID:-//ChamberMaster//Event Calendar 2.0//EN
METHOD:PUBLISH
X-PUBLISHED-TTL:P3D
REFRESH-INTERVAL:P3D
CALSCALE:GREGORIAN
BEGIN:VEVENT
DTSTART:20241113T200000Z
DTEND:20241113T210000Z
X-MICROSOFT-CDO-ALLDAYEVENT:FALSE
SUMMARY:Crafternoon: Tiny Books
DESCRIPTION:Look no further than your favorite book for fashion inspiration! In this Crafternoon\, we will make a miniature book to use for your own jewelry creation. If you want a specific book cover\, let us know before the day of! Limited to the first 25 participants. No registration required. Adults only please.
X-ALT-DESC;FMTTYPE=text/html:<span style="color:rgb(0\, 0\, 0)\; font-family:times new roman\,serif\; font-size:16px">Look no further than your favorite book for fashion inspiration! In this Crafternoon\, we will make a miniature book to use for your own jewelry creation. If you want a specific book cover\, let us know before the day of! Limited to the first 25 participants. No registration required. Adults only please.</span>
LOCATION:Location Details Cartersville Library Classroom 429 West Main Street Cartersville GA 30120 US
UID:e.1202.167358
SEQUENCE:3
DTSTAMP:20260422T155058Z
URL:https://business.cartersvillechamber.com/events/details/crafternoon-tiny-books-167358
END:VEVENT

END:VCALENDAR
