BEGIN:VCALENDAR
VERSION:2.0
PRODID:-//ChamberMaster//Event Calendar 2.0//EN
METHOD:PUBLISH
X-PUBLISHED-TTL:P3D
REFRESH-INTERVAL:P3D
CALSCALE:GREGORIAN
BEGIN:VEVENT
DTSTART:20250611T190000Z
DTEND:20250611T200000Z
X-MICROSOFT-CDO-ALLDAYEVENT:FALSE
SUMMARY:Crafternoon: Watermelon Wreaths
DESCRIPTION:Create a beautiful watermelon themed wreath for summer! With vibrant colors and a bit of whimsy\, it'll be just the thing to freshen up your d cor. Registration is required\, please give us a call at 770-382-4203 ext. 138 or stop by the Reference Desk at the Cartersville Library!
X-ALT-DESC;FMTTYPE=text/html:<span style="color:rgb(62\, 62\, 62)\; font-family:system-ui\; font-size:12.8px">Create a beautiful watermelon themed wreath for summer! With vibrant colors and a bit of whimsy\, it&#39\;ll be just the thing to freshen up your d&eacute\;cor.&nbsp\;</span><span style="color:rgb(62\, 62\, 62)\; font-family:system-ui\; font-size:12.8px">Registration is required\, please give us a call at 770-382-4203 ext. 138 or stop by the Reference Desk at the Cartersville Library!</span>
LOCATION:Cartersville Library 429 W Main St Cartersville\, GA 30120
UID:e.1202.171024
SEQUENCE:3
DTSTAMP:20260422T062541Z
URL:https://business.cartersvillechamber.com/events/details/crafternoon-watermelon-wreaths-171024
END:VEVENT

END:VCALENDAR
