BEGIN:VCALENDAR
VERSION:2.0
PRODID:-//ChamberMaster//Event Calendar 2.0//EN
METHOD:PUBLISH
X-PUBLISHED-TTL:P3D
REFRESH-INTERVAL:P3D
CALSCALE:GREGORIAN
BEGIN:VEVENT
DTSTART:20240612T190000Z
DTEND:20240612T200000Z
X-MICROSOFT-CDO-ALLDAYEVENT:FALSE
SUMMARY:Crafternoon - Yarn Birds
DESCRIPTION:Calling all crafters! Let's create our own fuzzy bird from yarn. No registration required. Adults only please.
X-ALT-DESC;FMTTYPE=text/html:Calling all crafters! Let&rsquo\;s create our own fuzzy bird from yarn. No registration required. Adults only please.<br />\n<br />\n&nbsp\;
LOCATION:Cartersville Library Classroom 429 West Main Street Cartersville GA 30120 US
UID:e.1202.165657
SEQUENCE:3
DTSTAMP:20260422T230935Z
URL:https://business.cartersvillechamber.com/events/details/crafternoon-yarn-birds-165657
END:VEVENT

END:VCALENDAR
