BEGIN:VCALENDAR
VERSION:2.0
PRODID:-//ChamberMaster//Event Calendar 2.0//EN
METHOD:PUBLISH
X-PUBLISHED-TTL:P3D
REFRESH-INTERVAL:P3D
CALSCALE:GREGORIAN
BEGIN:VEVENT
DTSTART:20250603T220000Z
DTEND:20250603T234500Z
X-MICROSOFT-CDO-ALLDAYEVENT:FALSE
SUMMARY:Crafters After Dark: Tiny Books
DESCRIPTION:Turn your favorite book into a tiny book accessory! Whether something classic or controversial\, we'll help you take your books with you wherever you go. If you want a specific book cover\, let us know before the event! Registration is required. Adults only\, please.
X-ALT-DESC;FMTTYPE=text/html:<span style="color:rgb(0\, 0\, 0)\; font-family:arial\,helvetica\,sans-serif\; font-size:14.6667px">Turn your favorite book into a tiny book accessory! Whether something classic or controversial\, we&rsquo\;ll help you take your books with you wherever you go. If you want a specific book cover\, let us know before the event! Registration is required. Adults only\, please.</span>
LOCATION:Cartersville Library 429 W Main St Cartersville\, GA 30120
UID:e.1202.171021
SEQUENCE:3
DTSTAMP:20260422T062257Z
URL:https://business.cartersvillechamber.com/events/details/crafters-after-dark-tiny-books-171021
END:VEVENT

END:VCALENDAR
