BEGIN:VCALENDAR
VERSION:2.0
PRODID:-//ChamberMaster//Event Calendar 2.0//EN
METHOD:PUBLISH
X-PUBLISHED-TTL:P3D
REFRESH-INTERVAL:P3D
CALSCALE:GREGORIAN
BEGIN:VEVENT
DTSTART:20250611T170000Z
DTEND:20250611T190000Z
X-MICROSOFT-CDO-ALLDAYEVENT:FALSE
SUMMARY:"Create High Impact Facebook Ads on a Small Budget" Workshop
DESCRIPTION:"Create High Impact Facebook Ads on a Small Budget" Workshop\n\n\n\nWednesday\, June 11\, 2025\, 1 PM - 3 PM\n\nFee: Free\n\n\n\nThis Live Online Workshop is for business owners who want to run Facebook ads. Whether you are self-publishing or making sure you are getting your money's worth when hiring someone else to do it\, you need to understand how Facebook ads work\, what makes them effective\, and why they matter for your business.\n\n\n\nFacebook ads are not for everyone. If you decide your business should be promoted on Facebook\, this no-fluff\, hands-on workshop will show you how to create ads that actually work.\n\n\n\nCarefully Crafted Content\n\n	The real difference between boosted posts and proper ads (and when to use each)\n	How to choose the right format: static image\, video\, or carousel for maximum results\n	The #1 mistake small businesses make that tanks their ad performance\n	The key Facebook ad metrics to track   and what good results look like\n	What to tweak when your ads fail to produce   without throwing more money at them\n	What Meta's Advantage+ is and why everyone's jumping on it\n	Why your creative matters more than your audience targeting\n\n\n\nCost Effective Tactics\n\n\n	Insider techniques pros use to lower ad costs and boost reach (that Facebook won't tell you)\n	Smart\, low-budget strategies to test what works before scaling\n	When Facebook ads make sense   and when they don't\n\n\n\nIf you're going to spend even one dollar on Facebook ads\, make sure it counts. This workshop will show you how.\n\n\n\nRegister Online
X-ALT-DESC;FMTTYPE=text/html:<strong>&quot\;Create High Impact Facebook Ads on a Small Budget</strong><strong>&quot\; Workshop<br />\n<br />\nWednesday\, June 11\, 2025\, 1 PM - 3 PM<br />\nFee: Free</strong><br />\n<br />\nThis Live Online Workshop is for business owners who want to run Facebook ads. Whether you are self-publishing or making sure you are getting your money&#39\;s worth when hiring someone else to do it\, you need to understand <em><strong>how</strong></em> Facebook ads work\, <em><strong>what</strong></em> makes them effective\, and <em><strong>why</strong></em> they matter for your business.<br />\n<br />\nFacebook ads are not for everyone. If you decide your business should be promoted on Facebook\, this no-fluff\, hands-on workshop will show you how to create ads that actually work.<br />\n<br />\n<em>Carefully Crafted Content</em>\n<ul>\n	<li>The real difference between boosted posts and proper ads (and when to use each)</li>\n	<li>How to choose the right format: static image\, video\, or carousel for maximum results</li>\n	<li>The #1 mistake small businesses make that tanks their ad performance</li>\n	<li>The key Facebook ad metrics to track &mdash\; and what good results look like</li>\n	<li>What to tweak when your ads fail to produce &mdash\; without throwing more money at them</li>\n	<li>What Meta&rsquo\;s Advantage+ is and why everyone&rsquo\;s jumping on it</li>\n	<li>Why your creative matters more than your audience targeting</li>\n</ul>\n<br />\n<em>Cost Effective Tactics</em>\n\n<ul>\n	<li>Insider techniques pros use to lower ad costs and boost reach (that Facebook won&rsquo\;t tell you)</li>\n	<li>Smart\, low-budget strategies to test what works before scaling</li>\n	<li>When Facebook ads make sense &mdash\; and when they don&rsquo\;t</li>\n</ul>\n<br />\nIf you&rsquo\;re going to spend even one dollar on Facebook ads\, make sure it counts. This workshop will show you how.<br />\n<br />\n<a href="https://www.score.org/northmetroatlanta/event/create-high-impact-facebook-ads-a-small-budget" target="_blank"><strong>Register Online</strong></a>
LOCATION:Online Workshop
UID:e.1202.170697
SEQUENCE:3
DTSTAMP:20260422T061228Z
URL:https://business.cartersvillechamber.com/events/details/create-high-impact-facebook-ads-on-a-small-budget-workshop-170697
END:VEVENT

END:VCALENDAR
