BEGIN:VCALENDAR
VERSION:2.0
PRODID:-//ChamberMaster//Event Calendar 2.0//EN
METHOD:PUBLISH
X-PUBLISHED-TTL:P3D
REFRESH-INTERVAL:P3D
CALSCALE:GREGORIAN
BEGIN:VEVENT
DTSTART:20260402T130000Z
DTEND:20260402T153000Z
X-MICROSOFT-CDO-ALLDAYEVENT:FALSE
SUMMARY:Create with Canva
DESCRIPTION:This beginner-friendly Canva class is perfect for anyone who wants to create professional-looking flyers\, social media posts\, and graphics using the FREE version of Canva. In this hands-on session\, students will learn how to navigate Canva\, choose and customize templates\, work with text\, colors\, photos\, and elements\, and download designs for print or online use. No design experience is required\, and no paid Canva features are needed. Participants will leave with finished projects and the confidence to create clean\, polished designs on their own.
X-ALT-DESC;FMTTYPE=text/html:This beginner-friendly Canva class is perfect for anyone who wants to create professional-looking flyers\, social media posts\, and graphics using the FREE version of Canva. In this hands-on session\, students will learn how to navigate Canva\, choose and customize templates\, work with text\, colors\, photos\, and elements\, and download designs for print or online use. No design experience is required\, and no paid Canva features are needed. Participants will leave with finished projects and the confidence to create clean\, polished designs on their own.
LOCATION:Georgia Highlands College 5441 Hwy 20 Cartersville\, GA 30121
UID:e.1202.173659
SEQUENCE:3
DTSTAMP:20260419T192415Z
URL:https://business.cartersvillechamber.com/events/details/create-with-canva-173659
END:VEVENT

END:VCALENDAR
