BEGIN:VCALENDAR
VERSION:2.0
PRODID:-//ChamberMaster//Event Calendar 2.0//EN
METHOD:PUBLISH
X-PUBLISHED-TTL:P3D
REFRESH-INTERVAL:P3D
CALSCALE:GREGORIAN
BEGIN:VEVENT
DTSTART:20251009T220000Z
DTEND:20251009T230000Z
X-MICROSOFT-CDO-ALLDAYEVENT:FALSE
SUMMARY:Credit Repair Workshop
DESCRIPTION:Are you thinking of buying a house\, a new car\, or taking out a business loan? Are you confused by what makes "good" credit\, and how to keep it? Join UGA Extension Bartow County for a FREE credit workshop! We will discuss the factors that go into determining your credit score and why they are important.
X-ALT-DESC;FMTTYPE=text/html:<div>Are you thinking of buying a house\, a new car\, or taking out a business loan? Are you confused by what makes &quot\;good&quot\; credit\, and how to keep it? Join UGA Extension Bartow County for a FREE credit workshop! We will discuss the factors that go into determining your credit score and why they are important.</div>\n
LOCATION:Cartersville Public Library
UID:e.1202.171885
SEQUENCE:3
DTSTAMP:20260422T003622Z
URL:https://business.cartersvillechamber.com/events/details/credit-repair-workshop-171885
END:VEVENT

END:VCALENDAR
