BEGIN:VCALENDAR
VERSION:2.0
PRODID:-//ChamberMaster//Event Calendar 2.0//EN
METHOD:PUBLISH
X-PUBLISHED-TTL:P3D
REFRESH-INTERVAL:P3D
CALSCALE:GREGORIAN
BEGIN:VEVENT
DTSTART:20241022T220000Z
DTEND:20241022T233000Z
X-MICROSOFT-CDO-ALLDAYEVENT:FALSE
SUMMARY:Cricut Design Space Workshop
DESCRIPTION:Join us for an introduction to Cricut Design Space\, the free app that powers the Cricut cutting machine. Together\, we will walk through using the app. Then we will practice a few simple projects using card stock. You are invited to bring your laptop and your Cricut machine. Neither are required to participate. You can register here\, or by contacting the reference desk at 770-382-4203 ext. 138.
X-ALT-DESC;FMTTYPE=text/html:<span style="color:rgb(62\, 62\, 62)\; font-family:system-ui\; font-size:12.8px">Join us for an introduction to Cricut Design Space\, the free app that powers the Cricut cutting machine. Together\, we will walk through using the app. Then we will practice&nbsp\;a few simple projects using card stock. You are invited to bring your laptop and your Cricut machine. Neither are&nbsp\;required&nbsp\;to&nbsp\;participate. You can register&nbsp\;</span><a class="Hyperlink SCXW106141486 BCX0" href="https://docs.google.com/forms/d/e/1FAIpQLSeOeBiJ_fpMtY1aLuxjBT0ZvmX_OnxRW49B0S8b_Xkq4Wx1pw/viewform?usp=sf_link" rel="noreferrer noopener" style="color: rgb(51\, 51\, 51)\; font-family: system-ui\; font-size: 12.8px\;" target="_blank">here</a><span style="color:rgb(62\, 62\, 62)\; font-family:system-ui\; font-size:12.8px">\, or by contacting the reference desk at 770-382-4203 ext. 138.&nbsp\;</span><span style="color:rgb(62\, 62\, 62)\; font-family:system-ui\; font-size:12.8px">&nbsp\;</span>
LOCATION:Cartersville Library Meeting Room 429 West Main Street Cartersville GA 30120 US
UID:e.1202.167189
SEQUENCE:3
DTSTAMP:20260422T165854Z
URL:https://business.cartersvillechamber.com/events/details/cricut-design-space-workshop-167189
END:VEVENT

END:VCALENDAR
