BEGIN:VCALENDAR
VERSION:2.0
PRODID:-//ChamberMaster//Event Calendar 2.0//EN
METHOD:PUBLISH
X-PUBLISHED-TTL:P3D
REFRESH-INTERVAL:P3D
CALSCALE:GREGORIAN
BEGIN:VEVENT
DTSTART:20250929T200000Z
DTEND:20250929T213000Z
X-MICROSOFT-CDO-ALLDAYEVENT:FALSE
SUMMARY:Cricut Workshop
DESCRIPTION:Calling all home crafters! Makerspace Librarian\, Vidhya Jagannathan of Cobb County Public Library will lead a how-to workshop on using the Cricut computer controlled cutting machine for home crafters. She will demonstrate how to use the Cricut to make customized tote bags with heat transfer vinyl and customized tumblers with permanent vinyl. She will also share favorite resources\, insider hacks\, and free templates.
X-ALT-DESC;FMTTYPE=text/html:<div>Calling all home crafters! Makerspace Librarian\, Vidhya&nbsp\;Jagannathan&nbsp\;of Cobb County Public Library will lead a how-to workshop on using the Cricut computer controlled cutting machine for home crafters. She will&nbsp\;demonstrate&nbsp\;how to use the Cricut to make customized tote bags with heat transfer vinyl and customized tumblers with permanent vinyl. She will also share favorite resources\, insider hacks\, and free templates.</div>\n\n<div>&nbsp\;</div>\n
LOCATION:Cartersville Public Library Nathan Dean Room
UID:e.1202.171800
SEQUENCE:3
DTSTAMP:20260422T020857Z
URL:https://business.cartersvillechamber.com/events/details/cricut-workshop-09-29-2025-171800
END:VEVENT

END:VCALENDAR
