BEGIN:VCALENDAR
VERSION:2.0
PRODID:-//ChamberMaster//Event Calendar 2.0//EN
METHOD:PUBLISH
X-PUBLISHED-TTL:P3D
REFRESH-INTERVAL:P3D
CALSCALE:GREGORIAN
BEGIN:VEVENT
DTSTART:20240620T220000Z
DTEND:20240620T233000Z
X-MICROSOFT-CDO-ALLDAYEVENT:FALSE
SUMMARY:Cricut Workshop
DESCRIPTION:Calling all home crafters! Makerspace Librarian\, Vidhya Jagganathan of Cobb County Public Library will lead a how-to workshop on using the Cricut computer controlled cutting machine for home crafters. She will demonstrate how to use the Cricut to make customized t-shirts with heat transfer vinyl and customized mugs with permanent vinyl. She will also share favorite resources\, insider hacks\, and free templates.  Registration is required for this workshop. You can register by calling 770-382-4203.
X-ALT-DESC;FMTTYPE=text/html:Calling all home crafters! Makerspace Librarian\, Vidhya&nbsp\;Jagganathan&nbsp\;of Cobb County Public Library will lead a how-to workshop on using the Cricut computer controlled cutting machine for home crafters. She will&nbsp\;demonstrate&nbsp\;how to use the Cricut to make customized t-shirts with heat transfer vinyl and customized mugs with permanent vinyl. She will also share favorite resources\, insider hacks\, and free templates.&nbsp\;&nbsp\;Registration is required for this workshop. You can register by calling 770-382-4203.<br />\n&nbsp\;
LOCATION:Cartersville Library Meeting Room 429 West Main Street Cartersville GA 30120 US
UID:e.1202.165587
SEQUENCE:3
DTSTAMP:20260422T230604Z
URL:https://business.cartersvillechamber.com/events/details/cricut-workshop-165587
END:VEVENT

END:VCALENDAR
