BEGIN:VCALENDAR
VERSION:2.0
PRODID:-//ChamberMaster//Event Calendar 2.0//EN
METHOD:PUBLISH
X-PUBLISHED-TTL:P3D
REFRESH-INTERVAL:P3D
CALSCALE:GREGORIAN
BEGIN:VEVENT
DTSTART:20250422T130000Z
DTEND:20250422T190000Z
X-MICROSOFT-CDO-ALLDAYEVENT:FALSE
SUMMARY:Cyber Workshop
DESCRIPTION:Cyber Workshop\n\n\n\nTuesday\, April 22\, 2025\, 9:00 AM - 3:00 PM\n\nMiddle Georgia Regional Commission\n\n3661 Eisenhower Parkway #Suite MB102 Macon\, GA 31206\n\n\n\nExplore the latest threats and vulnerabilities in the manufacturing sector and discover practical strategies to protect your critical infrastructure. Gain knowledge and tools to build secure and resilient processes. One company will be selected for a free cyber assessment!\n\n\n\nLearn more and register.
X-ALT-DESC;FMTTYPE=text/html:Cyber Workshop<br />\n<br />\nTuesday\, April 22\, 2025\, 9:00 AM - 3:00 PM<br />\nMiddle Georgia Regional Commission<br />\n3661 Eisenhower Parkway #Suite MB102 Macon\, GA 31206<br />\n<br />\nExplore the latest threats and vulnerabilities in the manufacturing sector and discover practical strategies to protect your critical infrastructure. Gain knowledge and tools to build secure and resilient processes. One company will be selected for a free cyber assessment!<br />\n<br />\n<a href="https://www.eventbrite.com/e/georgia-aim-cyber-security-workshop-macon-ga-tickets-1297341466249" target="_blank">Learn more and register</a>.
LOCATION:Middle Georgia Regional Commission 3661 Eisenhower Parkway #Suite MB102 Macon\, GA 31206
UID:e.1202.170666
SEQUENCE:3
DTSTAMP:20260422T091041Z
URL:https://business.cartersvillechamber.com/events/details/cyber-workshop-170666
END:VEVENT

END:VCALENDAR
