BEGIN:VCALENDAR
VERSION:2.0
PRODID:-//ChamberMaster//Event Calendar 2.0//EN
METHOD:PUBLISH
X-PUBLISHED-TTL:P3D
REFRESH-INTERVAL:P3D
CALSCALE:GREGORIAN
BEGIN:VEVENT
DTSTART:20241017T140000Z
DTEND:20241017T160000Z
X-MICROSOFT-CDO-ALLDAYEVENT:FALSE
SUMMARY:"Cybersecurity and Your Small Business" Workshop
DESCRIPTION:"Cybersecurity and Your Small Business" Workshop\n\n\n\nThursday\, October 17\, 2024\, 10 AM - 12 PM\n\nFee: Free\n\n\n\nCybersecurity is an important issue for businesses of all sizes. In this workshop\, we'll introduce the basics of online security and how it applies to your business and customers. You'll learn ways you can identify common digital threats and steps you can take to protect your business. You'll walk away with practical tips and tools to increase your business' cybersecurity\, as well as learn about the Google Cybersecurity Career Certificate to help your employees build skills in this space.\n\n\n\nIn this session we'll talk about:\n\n- Why cybersecurity matters for businesses of all sizes\n\n- How to protect your business and your customers online\n\n- What steps you can take after a potential security breach\n\n\n\nRegister Online
X-ALT-DESC;FMTTYPE=text/html:<strong>&quot\;Cybersecurity and Your Small Business&quot\; Workshop<br />\n<br />\nThursday\, October 17\, 2024\, 10 AM - 12 PM<br />\nFee: Free</strong><br />\n<br />\nCybersecurity is an important issue for businesses of all sizes. In this workshop\, we&rsquo\;ll introduce the basics of online security and how it applies to your business and customers. You&rsquo\;ll learn ways you can identify common digital threats and steps you can take to protect your business. You&rsquo\;ll walk away with practical tips and tools to increase your business&rsquo\; cybersecurity\, as well as learn about the Google Cybersecurity Career Certificate to help your employees build skills in this space.<br />\n<br />\nIn this session we&rsquo\;ll talk about:<br />\n- Why cybersecurity matters for businesses of all sizes<br />\n- How to protect your business and your customers online<br />\n- What steps you can take after a potential security breach<br />\n<br />\n<a href="https://www.score.org/northmetroatlanta/event/cybersecurity-and-your-small-business" target="_blank"><strong>Register Online</strong></a>
LOCATION:Online Workshop
UID:e.1202.166960
SEQUENCE:3
DTSTAMP:20260422T170411Z
URL:https://business.cartersvillechamber.com/events/details/cybersecurity-and-your-small-business-workshop-166960
END:VEVENT

END:VCALENDAR
