BEGIN:VCALENDAR
VERSION:2.0
PRODID:-//ChamberMaster//Event Calendar 2.0//EN
METHOD:PUBLISH
X-PUBLISHED-TTL:P3D
REFRESH-INTERVAL:P3D
CALSCALE:GREGORIAN
BEGIN:VEVENT
DTSTART:20241112T190000Z
DTEND:20241112T210000Z
X-MICROSOFT-CDO-ALLDAYEVENT:FALSE
SUMMARY:Cycle of Memory- Alzheimer's Awareness Program
DESCRIPTION:Cycle of Memory follows filmmaker Alex Leff and his younger sibling Koby as they try to uncover the past and capture the present\, in order to be remembered in the future. Guided by old photographs of the 1945 trip\, they search for places aged by time. But while searching for Grandpa Mel's past\, the two are confronted with their own fraught history. If they're going to complete the turbulent journey\, they'll have to face their own emotional potholes and tumultuous relationship.\n\n\n\nWith the help of a grandmother learning to live alone for the first time\, Mel's lifelong friend and co-adventurer on the bike trip\, and a family collection spanning 1950s film reels to 1990s video tapes\, Cycle of Memory explores the importance of intergenerational connection\, healing painful pasts\, and leaving a meaningful time capsule for the future.
X-ALT-DESC;FMTTYPE=text/html:<span style="color:rgb(62\, 62\, 62)\; font-family:system-ui\; font-size:12.8px">Cycle of Memory follows filmmaker Alex Leff and his younger sibling Koby as they try to uncover the past and capture the present\, in order to be remembered in the future. Guided by old photographs of the 1945 trip\, they search for places aged by time. But while searching for Grandpa Mel&rsquo\;s past\, the two are confronted with their own fraught history. If they&rsquo\;re going to complete the turbulent journey\, they&rsquo\;ll have to face their own emotional potholes and tumultuous relationship.</span><br />\n<br />\n<span style="color:rgb(62\, 62\, 62)\; font-family:system-ui\; font-size:12.8px">With the help of a grandmother learning to live alone for the first time\, Mel&rsquo\;s lifelong friend and co-adventurer on the bike trip\, and a family collection spanning 1950s film reels to 1990s video tapes\, Cycle of Memory explores the importance of intergenerational connection\, healing painful pasts\, and leaving a meaningful time capsule for the future.</span>
LOCATION:Cartersville Library Classroom 429 West Main Street Cartersville GA 30120 US
UID:e.1202.167357
SEQUENCE:3
DTSTAMP:20260422T155132Z
URL:https://business.cartersvillechamber.com/events/details/cycle-of-memory-alzheimer-s-awareness-program-167357
END:VEVENT

END:VCALENDAR
