BEGIN:VCALENDAR
VERSION:2.0
PRODID:-//ChamberMaster//Event Calendar 2.0//EN
METHOD:PUBLISH
X-PUBLISHED-TTL:P3D
REFRESH-INTERVAL:P3D
CALSCALE:GREGORIAN
BEGIN:VEVENT
DTSTART:20250809T140000Z
DTEND:20250809T200000Z
X-MICROSOFT-CDO-ALLDAYEVENT:FALSE
SUMMARY:Dark Iron Society Grand Opening Celebration
DESCRIPTION:Come celebrate the official Grand Opening of Dark Iron Society in Cartersville! We're throwing a community-wide event packed with fun\, fitness\, and local flavor. Bring your friends and family for a day full of excitement including food trucks\, lifting challenges\, pop-up vendors\, giveaways\, and exclusive grand opening deals. Whether you're already a member or just curious to check us out\, this event is for you. Let's make it a day to remember\, see you there!
X-ALT-DESC;FMTTYPE=text/html:Come celebrate the official Grand Opening of Dark Iron Society in Cartersville! We&rsquo\;re throwing a community-wide event packed with fun\, fitness\, and local flavor. Bring your friends and family for a day full of excitement including food trucks\, lifting challenges\, pop-up vendors\, giveaways\, and exclusive grand opening deals. Whether you&#39\;re already a member or just curious to check us out\, this event is for you. Let&rsquo\;s make it a day to remember\, see you there!
LOCATION:801 West Avenue Bldg 300
UID:e.1202.171576
SEQUENCE:3
DTSTAMP:20260422T034115Z
URL:https://business.cartersvillechamber.com/events/details/dark-iron-society-grand-opening-celebration-171576
END:VEVENT

END:VCALENDAR
