BEGIN:VCALENDAR
VERSION:2.0
PRODID:-//ChamberMaster//Event Calendar 2.0//EN
METHOD:PUBLISH
X-PUBLISHED-TTL:P3D
REFRESH-INTERVAL:P3D
CALSCALE:GREGORIAN
BEGIN:VEVENT
DTSTART;VALUE=DATE:20251204
DTEND;VALUE=DATE:20251205
TRANSP:TRANSPARENT
X-MICROSOFT-CDO-ALLDAYEVENT:TRUE
SUMMARY:Darrah Photo 2-Day Special
DESCRIPTION:Back by popular demand...\n\nDarrah Photo 2-Day Special\n\nJust in Time for Christmas!\n\n\n\nThursday & Friday only\, Dec. 4 & 5\, 2025\, use any time in 2026\n\nCall or Text NOW to reserve yours: (770) 607-1411\n\n\n\nDarrah Photo $89 Package\n\nThat's right. The BEST package ever offered!\n\nUnique last minute Christmas Idea for yourself\, family\, or friends!\n\n(Gift Certificates Available)\n\n\n\nPay just $89 and receive:\n\nStudio Session\n\nTwo - 8x10 Printed Portraits\n\n\n\nPlus discounted pricing for all orders w/ digital images of prints for social media. Purchase now...use anytime in the next 12 months!\n\n\n\nRefer a new client and receive a free 8x10 credit! Call or text the studio: (770) 607-1411.\n\n\n\nFeel free to share this with any friends that might want beautiful portraits.\n\n\n\nLimited one per family.
X-ALT-DESC;FMTTYPE=text/html:<em>Back by popular demand...</em><br />\n<strong><span style="font-size:18px\;">Darrah Photo 2-Day Special</span><br />\n<em>Just in Time for Christmas!</em><br />\n<br />\nThursday &amp\; Friday only\, Dec. 4 &amp\; 5\, 2025\, use any time in 2026</strong><br />\nCall or Text NOW to reserve yours: (770) 607-1411<br />\n<br />\n<span style="font-size:20px\;"><strong>Darrah Photo $89 Package</strong></span><br />\nThat&#39\;s right. The BEST package ever offered!<br />\nUnique last minute Christmas Idea for yourself\, family\, or friends!<br />\n(Gift Certificates Available)<br />\n<br />\nPay just $89 and receive:<br />\nStudio Session<br />\nTwo - 8x10 Printed Portraits<br />\n<br />\nPlus discounted pricing for all orders w/ digital images of prints for social media. Purchase now...use anytime in the next 12 months!<br />\n<br />\nRefer a new client and receive a free 8x10 credit! Call or text the studio: (770) 607-1411.<br />\n<br />\nFeel free to share this with any friends that might want beautiful portraits.<br />\n<br />\n<em>Limited one per family.</em>
LOCATION:Darrah Photo 100 Cook Street\, Suite 101 Cartersville\, GA 30120
UID:e.1202.172124
SEQUENCE:3
DTSTAMP:20260421T214705Z
URL:https://business.cartersvillechamber.com/events/details/darrah-photo-2-day-special-172124
END:VEVENT

END:VCALENDAR
