BEGIN:VCALENDAR
VERSION:2.0
PRODID:-//ChamberMaster//Event Calendar 2.0//EN
METHOD:PUBLISH
X-PUBLISHED-TTL:P3D
REFRESH-INTERVAL:P3D
CALSCALE:GREGORIAN
BEGIN:VEVENT
DTSTART;VALUE=DATE:20240904
DTEND;VALUE=DATE:20240905
TRANSP:TRANSPARENT
X-MICROSOFT-CDO-ALLDAYEVENT:TRUE
SUMMARY:Darrah Photo's 20th Anniversary
DESCRIPTION:To Celebrate Darrah Photo's 20th Anniversary\n\n\n\nOur Big Celebration Event can benefit everyone!\n\n\n\nDuring September 2024...\n\n\n\nFor any NEW client referred to Darrah Photo with a session booked within one year\,\n\nboth the new client and the Referrer will receive:\n\n\n\nWaived Session Fee ($350 value)\n\nplus\n\n$300 Print Credit in Special's Pricing\n\n\n\nCall 770-607-1411 to learn more.
X-ALT-DESC;FMTTYPE=text/html:<div style="text-align: center\;"><strong>To Celebrate Darrah Photo&rsquo\;s 20th Anniversary</strong><br />\n<br />\n<em>Our Big Celebration Event can benefit everyone!</em><br />\n<br />\nDuring September 2024...<br />\n<br />\nFor any <strong>NEW</strong> client referred to Darrah Photo with a session booked within one year\,<br />\n<strong>both</strong> the new client and the Referrer will receive:<br />\n<br />\n<strong>Waived Session Fee ($350 value)<br />\nplus<br />\n$300 Print Credit in Special&rsquo\;s Pricing</strong><br />\n<br />\nCall 770-607-1411 to learn more.</div>\n
LOCATION:
UID:e.1202.166329
SEQUENCE:3
DTSTAMP:20260422T185246Z
URL:https://business.cartersvillechamber.com/events/details/darrah-photo-s-20th-anniversary-166329
END:VEVENT

END:VCALENDAR
