BEGIN:VCALENDAR
VERSION:2.0
PRODID:-//ChamberMaster//Event Calendar 2.0//EN
METHOD:PUBLISH
X-PUBLISHED-TTL:P3D
REFRESH-INTERVAL:P3D
CALSCALE:GREGORIAN
BEGIN:VEVENT
DTSTART:20260620T173000Z
DTEND:20260620T193000Z
X-MICROSOFT-CDO-ALLDAYEVENT:FALSE
SUMMARY:“Daylily Showcase.” 2026 Daylily Show and Plant Sale
DESCRIPTION:"Daylily Showcase" 2026 Daylily Show and Plant Sale\n\n\n\nSaturday\, June 20\, 2026\, at the Cartersville Civic Center\, 435 W. Main Street\, Cartersville GA 30120.\n\n\n\nOpen to the public from 1:30 to 3:30 PM. Hosted by N.W. Georgia Daylily Society. Accredited and judged by the American Hemerocallis/Daylily Society.\n\n\n\nBeginning at 1:30\, view prize-winning daylilies on display in the main showroom. Then shop in the back room for named and unnamed daylilies\, bargain-priced at $10 to $20. Sale will showcase "Oz" named daylilies\, as well as green (for "Wicked")\, and best-of-the-best winners\, the "Stout" winners.\n\n\n\nCash\, check\, credit/debit cards accepted for payment. Free admission. Free parking in the lot north of the Civic Center. Public votes on best off-scape and design entries to determine people's choice award winners.\n\n\n\nWebsite: https://www.nwgeorgiadaylily.org/\n\nFacebook: https://www.facebook.com/nwgds
X-ALT-DESC;FMTTYPE=text/html:&ldquo\;Daylily Showcase&rdquo\; 2026 Daylily Show and Plant Sale<br />\n<br />\nSaturday\, June 20\, 2026\, at the Cartersville Civic Center\, 435 W. Main Street\, Cartersville GA 30120.<br />\n<br />\nOpen to the public from 1:30 to 3:30 PM. Hosted by N.W. Georgia Daylily Society. Accredited and judged by the American Hemerocallis/Daylily Society.<br />\n<br />\nBeginning at 1:30\, view prize-winning daylilies on display in the main showroom. Then shop in the back room for named and unnamed daylilies\, bargain-priced at $10 to $20. Sale will showcase &quot\;Oz&quot\; named daylilies\, as well as green (for &quot\;Wicked&quot\;)\, and best-of-the-best winners\, the &quot\;Stout&quot\; winners.<br />\n<br />\nCash\, check\, credit/debit cards accepted for payment. Free admission. Free parking in the lot north of the Civic Center. Public votes on best off-scape and design entries to determine people&rsquo\;s choice award winners.<br />\n<br />\nWebsite: <a href="https://www.nwgeorgiadaylily.org/" target="_blank">https://www.nwgeorgiadaylily.org/</a><br />\nFacebook: <a href="https://www.facebook.com/nwgds" target="_blank">https://www.facebook.com/nwgds</a>
LOCATION:Cartersville Civic Center\, 435 W. Main Street\, Cartersville GA 30120
UID:e.1202.174046
SEQUENCE:3
DTSTAMP:20260421T171754Z
URL:https://business.cartersvillechamber.com/events/details/daylily-showcase-2026-daylily-show-and-plant-sale-174046
END:VEVENT

END:VCALENDAR
