BEGIN:VCALENDAR
VERSION:2.0
PRODID:-//ChamberMaster//Event Calendar 2.0//EN
METHOD:PUBLISH
X-PUBLISHED-TTL:P3D
REFRESH-INTERVAL:P3D
CALSCALE:GREGORIAN
BEGIN:VEVENT
DTSTART:20260106T130000Z
DTEND:20260106T160000Z
X-MICROSOFT-CDO-ALLDAYEVENT:FALSE
SUMMARY:Dealing with Conflict
DESCRIPTION:Customized for your front-line leaders\, our three-hour workshops are designed to provide essential skills for success. Presented in easily digestible segments\, these workshops concentrate on crucial abilities that deliver significant results without interrupting your team's daily workflow. This workshop will equip you with the essential skills to navigate change and conflict effectively\, fostering a stable and productive team environment.
X-ALT-DESC;FMTTYPE=text/html:Customized for your front-line leaders\, our three-hour workshops are designed to provide essential skills for success. Presented in easily digestible segments\, these workshops concentrate on crucial abilities that deliver significant results without interrupting your team&rsquo\;s daily workflow. This workshop will equip you with the essential skills to navigate change and conflict effectively\, fostering a stable and productive team environment.
LOCATION:GHC Cartersville Campus
UID:e.1202.171863
SEQUENCE:3
DTSTAMP:20260421T201456Z
URL:https://business.cartersvillechamber.com/events/details/dealing-with-conflict-01-06-2026-171863
END:VEVENT

END:VCALENDAR
