BEGIN:VCALENDAR
VERSION:2.0
PRODID:-//ChamberMaster//Event Calendar 2.0//EN
METHOD:PUBLISH
X-PUBLISHED-TTL:P3D
REFRESH-INTERVAL:P3D
CALSCALE:GREGORIAN
BEGIN:VEVENT
DTSTART:20250304T130000Z
DTEND:20250304T160000Z
X-MICROSOFT-CDO-ALLDAYEVENT:FALSE
SUMMARY:Dealing with Conflict
DESCRIPTION:Workshop #9: Dealing with Conflict\n\n	Reduce team members' fear and insecurity when dealing with change\n	Defuse anger and reduce defensiveness in tense situations\n	Identify and act on the root causes of conflict using appropriate conflict resolution strategies\n	Facilitate conflict resolution among team members
X-ALT-DESC;FMTTYPE=text/html:Workshop #9: Dealing with Conflict\n<ul>\n	<li>Reduce team members&#39\; fear and insecurity when dealing with change</li>\n	<li>Defuse anger and reduce defensiveness in tense situations</li>\n	<li>Identify and act on the root causes of conflict using appropriate conflict resolution strategies</li>\n	<li>Facilitate conflict resolution among team members</li>\n</ul>\n
LOCATION:Cartersville Campus A130 Georgia Highlands College 5441 Hwy 20 Cartersville\, GA 30121
UID:e.1202.167622
SEQUENCE:3
DTSTAMP:20260422T103114Z
URL:https://business.cartersvillechamber.com/events/details/dealing-with-conflict-03-04-2025-167622
END:VEVENT

END:VCALENDAR
