BEGIN:VCALENDAR
VERSION:2.0
PRODID:-//ChamberMaster//Event Calendar 2.0//EN
METHOD:PUBLISH
X-PUBLISHED-TTL:P3D
REFRESH-INTERVAL:P3D
CALSCALE:GREGORIAN
BEGIN:VEVENT
DTSTART:20250204T130000Z
DTEND:20250204T160000Z
X-MICROSOFT-CDO-ALLDAYEVENT:FALSE
SUMMARY:Dealing with Difficult People
DESCRIPTION:Workshop #7: Dealing with Difficult People\n\n	Understand what makes difficult people act in challenging ways\n	Develop strategies to minimize the effects of difficult behavior on your team's performance\n	Establish zero tolerance for workplace bullying and harassment\n	Conduct difficult conversations to achieve productive results
X-ALT-DESC;FMTTYPE=text/html:Workshop #7: Dealing with Difficult People\n<ul>\n	<li>Understand what makes difficult people act in challenging ways</li>\n	<li>Develop strategies to minimize the effects of difficult behavior on your team&#39\;s performance</li>\n	<li>Establish zero tolerance for workplace bullying and harassment</li>\n	<li>Conduct difficult conversations to achieve productive results</li>\n</ul>\n
LOCATION:Cartersville Campus A130 Georgia Highlands College 5441 Hwy 20 Cartersville\, GA 30121
UID:e.1202.167624
SEQUENCE:3
DTSTAMP:20260422T115532Z
URL:https://business.cartersvillechamber.com/events/details/dealing-with-difficult-people-02-04-2025-167624
END:VEVENT

END:VCALENDAR
