BEGIN:VCALENDAR
VERSION:2.0
PRODID:-//ChamberMaster//Event Calendar 2.0//EN
METHOD:PUBLISH
X-PUBLISHED-TTL:P3D
REFRESH-INTERVAL:P3D
CALSCALE:GREGORIAN
BEGIN:VEVENT
DTSTART:20250708T120000Z
DTEND:20250708T150000Z
X-MICROSOFT-CDO-ALLDAYEVENT:FALSE
SUMMARY:Dealing with Difficult People
DESCRIPTION:Dealing with Difficult People
X-ALT-DESC;FMTTYPE=text/html:Dealing with Difficult People
LOCATION:GHC Cartersville Campus
UID:e.1202.171070
SEQUENCE:3
DTSTAMP:20260422T045951Z
URL:https://business.cartersvillechamber.com/events/details/dealing-with-difficult-people-07-08-2025-171070
END:VEVENT

END:VCALENDAR
