BEGIN:VCALENDAR
VERSION:2.0
PRODID:-//ChamberMaster//Event Calendar 2.0//EN
METHOD:PUBLISH
X-PUBLISHED-TTL:P3D
REFRESH-INTERVAL:P3D
CALSCALE:GREGORIAN
BEGIN:VEVENT
DTSTART:20251202T130000Z
DTEND:20251202T160000Z
X-MICROSOFT-CDO-ALLDAYEVENT:FALSE
SUMMARY:Dealing with Difficult People
DESCRIPTION:Customized for your front-line leaders\, our three-hour workshops are designed to provide essential skills for success. Presented in easily digestible segments\, these workshops concentrate on crucial abilities that deliver significant results without interrupting your team's daily workflow. This workshop focuses on equipping you with the skills to effectively manage challenging behaviors and foster a positive work environment.
X-ALT-DESC;FMTTYPE=text/html:Customized for your front-line leaders\, our three-hour workshops are designed to provide essential skills for success. Presented in easily digestible segments\, these workshops concentrate on crucial abilities that deliver significant results without interrupting your team&rsquo\;s daily workflow. This workshop focuses on equipping you with the skills to effectively manage challenging behaviors and foster a positive work environment.
LOCATION:GHC Cartersville Campus
UID:e.1202.171867
SEQUENCE:3
DTSTAMP:20260421T214449Z
URL:https://business.cartersvillechamber.com/events/details/dealing-with-difficult-people-12-02-2025-171867
END:VEVENT

END:VCALENDAR
