BEGIN:VCALENDAR
VERSION:2.0
PRODID:-//ChamberMaster//Event Calendar 2.0//EN
METHOD:PUBLISH
X-PUBLISHED-TTL:P3D
REFRESH-INTERVAL:P3D
CALSCALE:GREGORIAN
BEGIN:VEVENT
DTSTART:20260504T213000Z
DTEND:20260504T223000Z
X-MICROSOFT-CDO-ALLDAYEVENT:FALSE
SUMMARY:Divorce Seminar
DESCRIPTION:Join Tranquility House Domestic Violence Center for a Free Divorce Seminar designed to provide valuable legal information and guidance for individuals navigating the divorce process. This seminar will be led by Sydney Painter\, an attorney with Trotter\, Deems & King\, LLC\, who focuses on family law matters\, including divorce\, custody\, and support. Attendees will gain insight into: The divorce process in Georgia Child custody and support considerations Legal rights and options What to expect when navigating the court system Tranquility House Domestic Violence Center is committed to providing advocacy\, education\, and support to survivors\, including legal advocacy services that help individuals understand their rights and options.
X-ALT-DESC;FMTTYPE=text/html:Join Tranquility House Domestic Violence Center for a Free Divorce Seminar designed to provide valuable legal information and guidance for individuals navigating the divorce process. This seminar will be led by Sydney Painter\, an attorney with Trotter\, Deems &amp\; King\, LLC\, who focuses on family law matters\, including divorce\, custody\, and support. Attendees will gain insight into: The divorce process in Georgia Child custody and support considerations Legal rights and options What to expect when navigating the court system Tranquility House Domestic Violence Center is committed to providing advocacy\, education\, and support to survivors\, including legal advocacy services that help individuals understand their rights and options.
LOCATION:201 Stonewall Street\, Suite B
UID:e.1202.174058
SEQUENCE:3
DTSTAMP:20260423T182405Z
URL:https://business.cartersvillechamber.com/events/details/divorce-seminar-174058
END:VEVENT

END:VCALENDAR
