BEGIN:VCALENDAR
VERSION:2.0
PRODID:-//ChamberMaster//Event Calendar 2.0//EN
METHOD:PUBLISH
X-PUBLISHED-TTL:P3D
REFRESH-INTERVAL:P3D
CALSCALE:GREGORIAN
BEGIN:VEVENT
DTSTART:20260428T220000Z
DTEND:20260428T233000Z
X-MICROSOFT-CDO-ALLDAYEVENT:FALSE
SUMMARY:Domestic Violence Support Group
DESCRIPTION:Join us for our weekly domestic violence support group. Find strength\, find support\, and find your voice. Bring your children\, we have Youth Advocates/ volunteers available to play games\, and have fun.
X-ALT-DESC;FMTTYPE=text/html:Join us for our weekly domestic violence support group. Find strength\, find support\, and find your voice. Bring your children\, we have Youth Advocates/ volunteers available to play games\, and have fun.
LOCATION:201 Stonewall Street\, Suite B
UID:e.1202.174059
SEQUENCE:3
DTSTAMP:20260423T181811Z
URL:https://business.cartersvillechamber.com/events/details/domestic-violence-support-group-174059
END:VEVENT

END:VCALENDAR
