BEGIN:VCALENDAR
VERSION:2.0
PRODID:-//ChamberMaster//Event Calendar 2.0//EN
METHOD:PUBLISH
X-PUBLISHED-TTL:P3D
REFRESH-INTERVAL:P3D
CALSCALE:GREGORIAN
BEGIN:VEVENT
DTSTART:20240803T230000Z
DTEND:20240804T010000Z
X-MICROSOFT-CDO-ALLDAYEVENT:FALSE
SUMMARY:Down Home Concert Series
DESCRIPTION:Down Home Concert Series\n\nSaturday\, August 3\, 2024\, 7 PM - 9 PM\n\nDowntown Cartersville\n\n\n\nThe Down Home Concert Series\, supporting our local food pantry\, invites the community to Downtown Cartersville to show support for Joe Lasher and Kaitlyn Bakes.\n\n\n\nIn addition to enjoying the concert\, we kindly request attendees to bring canned goods to the event. Designated tables will be available to facilitate the drop-off of your donations.
X-ALT-DESC;FMTTYPE=text/html:Down Home Concert Series<br />\nSaturday\, August 3\, 2024\, 7 PM - 9 PM<br />\nDowntown Cartersville<br />\n<br />\nThe Down Home Concert Series\, supporting our local food pantry\, invites the community to Downtown Cartersville to show support for Joe Lasher and Kaitlyn Bakes.<br />\n<br />\nIn addition to enjoying the concert\, we kindly request attendees to bring canned goods to the event. Designated tables will be available to facilitate the drop-off of your donations.
LOCATION:Downtown Cartersville 1 Friendship Plaza Cartersville\, GA 30120
UID:e.1202.166134
SEQUENCE:3
DTSTAMP:20260422T202028Z
URL:https://business.cartersvillechamber.com/events/details/down-home-concert-series-166134
END:VEVENT

END:VCALENDAR
