BEGIN:VCALENDAR
VERSION:2.0
PRODID:-//ChamberMaster//Event Calendar 2.0//EN
METHOD:PUBLISH
X-PUBLISHED-TTL:P3D
REFRESH-INTERVAL:P3D
CALSCALE:GREGORIAN
BEGIN:VEVENT
DTSTART:20250216T190000Z
DTEND:20250216T200000Z
X-MICROSOFT-CDO-ALLDAYEVENT:FALSE
SUMMARY:Dr. Lemke: Sleep
DESCRIPTION:Join us for a FREE Sleep Seminar with Dr. Lemke!\n\nAs part of our Grand Opening celebration\, The Big Mattress Outlet   Cartersville is hosting a special free event featuring renowned sleep expert Dr. Lemke on Sunday\, February 16 at 2:00 PM.\n\n\n\nThis is not a sales event. We are bringing Dr. Lemke in all the way from her home in Chicago because we are passionate about sleep and want our community to have access to practical sleep tips. No boring seminar here - these is real world advice for the average working person who just wants a good night's sleep!\n\n\n\nLearn how better sleep can improve your health\, energy\, and overall well-being. Everyone in attendance will receive a free gift bag full of useful sleep-related gifts. (While supplies last\, of course.) Don't miss this chance to wake up to better sleep!\n\nLocation: The Big Mattress Outlet   Cartersville\n\nDate: Sunday\, February 16\n\nTime: 2:00 PM   3:00 PM\n\nAdmission: FREE\n\n\n\nLearn more about Dr. Lemke.
X-ALT-DESC;FMTTYPE=text/html:<p><strong>Join us for a FREE Sleep Seminar with Dr. Lemke!</strong></p>\n\n<p>As part of our&nbsp\;<strong>Grand Opening celebration</strong>\, The Big Mattress Outlet &ndash\; Cartersville is hosting a&nbsp\;<strong>special free event&nbsp\;</strong>featuring&nbsp\;<strong>renowned sleep expert Dr. Lemke</strong>&nbsp\;on&nbsp\;<strong>Sunday\, February 16 at 2:00 PM</strong>.<br />\n<br />\nThis is not a sales event. We are bringing Dr. Lemke in all the way from her home in Chicago because we are passionate about sleep and want our community to have access to practical sleep tips. No boring seminar here - these is real world advice for the average working person who just wants a good night&#39\;s sleep!<br />\n<br />\nLearn how better sleep can improve your health\, energy\, and overall well-being. Everyone in attendance will receive a free gift bag full of useful sleep-related gifts. (While supplies last\, of course.) Don&rsquo\;t miss this chance to&nbsp\;<strong>wake up to better sleep!</strong></p>\n\n<p><strong>Location:</strong>&nbsp\;The Big Mattress Outlet &ndash\; Cartersville<br />\n<strong>Date:</strong>&nbsp\;Sunday\, February 16<br />\n<strong>Time:</strong>&nbsp\;2:00 PM &ndash\; 3:00 PM<br />\n<strong>Admission:</strong>&nbsp\;FREE<br />\n<br />\n<a href="https://chambermaster.blob.core.windows.net/userfiles/UserFiles/chambers/1202/File/Event_Docs/BigMattressOutlet-Dr.Lemke.pdf" target="_blank">Learn more about Dr. Lemke</a>.</p>\n
LOCATION:The Big Mattress Outlet 13 N Tennessee St Cartersville\, GA 30120 (Previously CVS)
UID:e.1202.168675
SEQUENCE:3
DTSTAMP:20260422T115434Z
URL:https://business.cartersvillechamber.com/events/details/dr-lemke-sleep-168675
END:VEVENT

END:VCALENDAR
