BEGIN:VCALENDAR
VERSION:2.0
PRODID:-//ChamberMaster//Event Calendar 2.0//EN
METHOD:PUBLISH
X-PUBLISHED-TTL:P3D
REFRESH-INTERVAL:P3D
CALSCALE:GREGORIAN
BEGIN:VEVENT
DTSTART:20250411T140000Z
DTEND:20250411T180000Z
X-MICROSOFT-CDO-ALLDAYEVENT:FALSE
SUMMARY:Driven by Design
DESCRIPTION:Driven by Design\n\n\n\nFriday\, April 11\, 2025\n\n10:00 AM - 2:00 PM\n\nSavoy Automobile Museum\n\n\n\nJoin us for Driven by Design (for the kiddos)   An unforgettable event that will ignite curiosity and inspire creativity! Dive into a world where science\, technology\, engineering\, art\, and math come together in an interactive\, hands-on experience. Don't miss the opportunity to create make-and-take model cars with our special guest\, ACME (Atlanta Car Model Enthusiasts)! Limited supplies.\n\n \n\nTickets are available at the door.
X-ALT-DESC;FMTTYPE=text/html:<strong>Driven by Design</strong><br />\n<br />\n<strong>Friday\, April 11\, 2025<br />\n10:00 AM - 2:00 PM</strong><br />\nSavoy Automobile Museum<br />\n<br />\nJoin us for Driven by Design (for the kiddos) &ndash\; An unforgettable event that will ignite curiosity and inspire creativity! Dive into a world where science\, technology\, engineering\, art\, and math come together in an interactive\, hands-on experience. Don&rsquo\;t miss the opportunity to create make-and-take model cars with our special guest\, ACME (Atlanta Car Model Enthusiasts)! Limited supplies.<br />\n&nbsp\;<br />\nTickets are available at the door.&nbsp\;<br />\n
LOCATION:Savoy Automobile Museum 3 Savoy Lane Cartersville\, GA 30121
UID:e.1202.170150
SEQUENCE:3
DTSTAMP:20260422T091025Z
URL:https://business.cartersvillechamber.com/events/details/driven-by-design-170150
END:VEVENT

END:VCALENDAR
