BEGIN:VCALENDAR
VERSION:2.0
PRODID:-//ChamberMaster//Event Calendar 2.0//EN
METHOD:PUBLISH
X-PUBLISHED-TTL:P3D
REFRESH-INTERVAL:P3D
CALSCALE:GREGORIAN
BEGIN:VEVENT
DTSTART:20250412T170000Z
DTEND:20250412T190000Z
X-MICROSOFT-CDO-ALLDAYEVENT:FALSE
SUMMARY:Easter Egg Hunt
DESCRIPTION:Easter Egg Hunt\n\n\n\nSaturday\, April 12\, 2025\, 1 PM - 3 PM\n\nCalhoun Building Center\n\n309 Belwood Road\, Calhoun\, GA 30701\n\n\n\nBring your baskets and your excitement! You and your family are invited to participate in this event! Our sales team will be on site to provide information on our easy build process and our quality craftmanship. Don't miss out on this festive celebration. We can't wait to see you there!\n\n\n\nSponsored by: Liberty Federal Credit Union\n\n\n\nAmerica's Home Place\n\n(706) 629-8011\n\nAmericasHomePlace.com
X-ALT-DESC;FMTTYPE=text/html:<strong><span style="font-size:18px\;">Easter Egg Hunt</span><br />\n<br />\nSaturday\, April 12\, 2025\, 1 PM - 3 PM</strong><br />\nCalhoun Building Center<br />\n309 Belwood Road\,&nbsp\;Calhoun\, GA 30701<br />\n<br />\nBring your baskets and your excitement! You and your family are invited to participate in this event! Our sales team will be on site to provide information on our easy build process and our quality craftmanship. Don&#39\;t miss out on this festive celebration. We can&#39\;t wait to see you there!<br />\n<br />\n<em>Sponsored by: Liberty Federal Credit Union</em><br />\n<br />\nAmerica&#39\;s Home Place<br />\n(706) 629-8011<br />\n<a href="http://AmericasHomePlace.com" target="_blank">AmericasHomePlace.com</a>
LOCATION:Calhoun Building Center 309 Belwood Road Calhoun\, GA 30701
UID:e.1202.170679
SEQUENCE:3
DTSTAMP:20260422T091041Z
URL:https://business.cartersvillechamber.com/events/details/easter-egg-hunt-170679
END:VEVENT

END:VCALENDAR
