BEGIN:VCALENDAR
VERSION:2.0
PRODID:-//ChamberMaster//Event Calendar 2.0//EN
METHOD:PUBLISH
X-PUBLISHED-TTL:P3D
REFRESH-INTERVAL:P3D
CALSCALE:GREGORIAN
BEGIN:VEVENT
DTSTART:20250405T120000Z
DTEND:20250405T150000Z
X-MICROSOFT-CDO-ALLDAYEVENT:FALSE
SUMMARY:Elevate Autism 5k Race
DESCRIPTION:The first inaugural elevate autism 5k event.
X-ALT-DESC;FMTTYPE=text/html:The first inaugural elevate autism 5k event.
LOCATION:Sam Smith Park
UID:e.1202.169958
SEQUENCE:3
DTSTAMP:20260422T091515Z
URL:https://business.cartersvillechamber.com/events/details/elevate-autism-5k-race-169958
END:VEVENT

END:VCALENDAR
