BEGIN:VCALENDAR
VERSION:2.0
PRODID:-//ChamberMaster//Event Calendar 2.0//EN
METHOD:PUBLISH
X-PUBLISHED-TTL:P3D
REFRESH-INTERVAL:P3D
CALSCALE:GREGORIAN
BEGIN:VEVENT
DTSTART:20240608T140000Z
DTEND:20240608T220000Z
X-MICROSOFT-CDO-ALLDAYEVENT:FALSE
SUMMARY:Emerson Exchange Market
DESCRIPTION:Emerson Exchange Market\, the ultimate destination for an unforgettable weekend! With over 120 unique vendors offering everything from artisan crafts to one-of-a-kind treasures\, there's something for everyone to discover. Indulge in delicious food from local eateries. Mark your calendars for June 8th and 9th at Lakepoint Sports   it's an event you won't want to miss!
X-ALT-DESC;FMTTYPE=text/html:Emerson Exchange Market\, the ultimate destination for an unforgettable weekend! With over 120 unique vendors offering everything from artisan crafts to one-of-a-kind treasures\, there&#39\;s something for everyone to discover. Indulge in delicious food from local eateries. Mark your calendars for June 8th and 9th at Lakepoint Sports &ndash\; it&#39\;s an event you won&#39\;t want to miss!
LOCATION:261 Stars Way Emerson\, GA 30121 United States
UID:e.1202.164298
SEQUENCE:3
DTSTAMP:20260422T230936Z
URL:https://business.cartersvillechamber.com/events/details/emerson-exchange-market-164298
END:VEVENT

END:VCALENDAR
